BEGIN:VCALENDAR
VERSION:2.0
PRODID:-//Dansgroep Heliopsis - ECPv6.15.15//NONSGML v1.0//EN
CALSCALE:GREGORIAN
METHOD:PUBLISH
X-ORIGINAL-URL:https://heliopsis.be
X-WR-CALDESC:Events voor Dansgroep Heliopsis
REFRESH-INTERVAL;VALUE=DURATION:PT1H
X-Robots-Tag:noindex
X-PUBLISHED-TTL:PT1H
BEGIN:VTIMEZONE
TZID:Europe/Brussels
BEGIN:DAYLIGHT
TZOFFSETFROM:+0100
TZOFFSETTO:+0200
TZNAME:CEST
DTSTART:20240331T010000
END:DAYLIGHT
BEGIN:STANDARD
TZOFFSETFROM:+0200
TZOFFSETTO:+0100
TZNAME:CET
DTSTART:20241027T010000
END:STANDARD
BEGIN:DAYLIGHT
TZOFFSETFROM:+0100
TZOFFSETTO:+0200
TZNAME:CEST
DTSTART:20250330T010000
END:DAYLIGHT
BEGIN:STANDARD
TZOFFSETFROM:+0200
TZOFFSETTO:+0100
TZNAME:CET
DTSTART:20251026T010000
END:STANDARD
BEGIN:DAYLIGHT
TZOFFSETFROM:+0100
TZOFFSETTO:+0200
TZNAME:CEST
DTSTART:20260329T010000
END:DAYLIGHT
BEGIN:STANDARD
TZOFFSETFROM:+0200
TZOFFSETTO:+0100
TZNAME:CET
DTSTART:20261025T010000
END:STANDARD
END:VTIMEZONE
BEGIN:VEVENT
DTSTART;TZID=Europe/Brussels:20250312T130000
DTEND;TZID=Europe/Brussels:20250312T211500
DTSTAMP:20260422T133622
CREATED:20250117T095017Z
LAST-MODIFIED:20250117T095017Z
UID:2400-1741784400-1741814100@heliopsis.be
SUMMARY:Podiumrepetitie
DESCRIPTION:Onze eerste podiumrepetitie gaat door op woensdag 12 maart.\nGelieve telkens een kwartier voor de aanvang van jouw groep aanwezig te zijn in het auditorium. \n  \nModern Kids: 13u-13u45 \nStreet Kids: 13u45-14u30 \nModern Teens: 14u30-15u15 \nStreet Teens: 15u15-16u \nModern 1: 16u-16u45 \nStreet 1: 16u45-17u30 \nModern 2/3: 17u30-18u15 \nStreet 2/3: 18u15-19u \nModern 3/4: 19u-19u45 \nStreet 3/4: 19u45-20u30 \nSelectie 3/4: 20u30-21u15 \n 
URL:https://heliopsis.be/event/podiumrepetitie/
ATTACH;FMTTYPE=image/jpeg:https://heliopsis.be/wp-content/uploads/2013/12/A43I0692-1.jpg
END:VEVENT
END:VCALENDAR