BEGIN:VCALENDAR
VERSION:2.0
PRODID:-//Dansgroep Heliopsis - ECPv6.15.15//NONSGML v1.0//EN
CALSCALE:GREGORIAN
METHOD:PUBLISH
X-WR-CALNAME:Dansgroep Heliopsis
X-ORIGINAL-URL:https://heliopsis.be
X-WR-CALDESC:Events voor Dansgroep Heliopsis
REFRESH-INTERVAL;VALUE=DURATION:PT1H
X-Robots-Tag:noindex
X-PUBLISHED-TTL:PT1H
BEGIN:VTIMEZONE
TZID:Europe/Brussels
BEGIN:DAYLIGHT
TZOFFSETFROM:+0100
TZOFFSETTO:+0200
TZNAME:CEST
DTSTART:20230326T010000
END:DAYLIGHT
BEGIN:STANDARD
TZOFFSETFROM:+0200
TZOFFSETTO:+0100
TZNAME:CET
DTSTART:20231029T010000
END:STANDARD
BEGIN:DAYLIGHT
TZOFFSETFROM:+0100
TZOFFSETTO:+0200
TZNAME:CEST
DTSTART:20240331T010000
END:DAYLIGHT
BEGIN:STANDARD
TZOFFSETFROM:+0200
TZOFFSETTO:+0100
TZNAME:CET
DTSTART:20241027T010000
END:STANDARD
BEGIN:DAYLIGHT
TZOFFSETFROM:+0100
TZOFFSETTO:+0200
TZNAME:CEST
DTSTART:20250330T010000
END:DAYLIGHT
BEGIN:STANDARD
TZOFFSETFROM:+0200
TZOFFSETTO:+0100
TZNAME:CET
DTSTART:20251026T010000
END:STANDARD
END:VTIMEZONE
BEGIN:VEVENT
DTSTART;TZID=Europe/Brussels:20241130T131500
DTEND;TZID=Europe/Brussels:20241130T140000
DTSTAMP:20260423T002145
CREATED:20241125T080021Z
LAST-MODIFIED:20241125T084619Z
UID:1160-1732972500-1732975200@heliopsis.be
SUMMARY:Sinterklaas komt op bezoek
DESCRIPTION:Sinterklaas komt bij ons langs om te kijken of alle dansertjes afgelopen jaar braaf zijn geweest. Hopelijk moet niemand mee in de zak!!\nDe Sint komt naar de balletzaal beneden om onze mini’s te bezoeken. Street Kids komt ook op bezoek.\nTuutjes en tekeningen mogen gerust meegegeven worden. Een muts zoals de pieten mag je gerust aandoen. \n 
URL:https://heliopsis.be/event/sinterklaas-op-bezoek/
LOCATION:C.C Scharpoord
END:VEVENT
BEGIN:VEVENT
DTSTART;TZID=Europe/Brussels:20240916T000000
DTEND;TZID=Europe/Brussels:20240921T000000
DTSTAMP:20260423T002145
CREATED:20240820T212354Z
LAST-MODIFIED:20240820T212508Z
UID:2382-1726444800-1726876800@heliopsis.be
SUMMARY:Start dansjaar 2024/2025
DESCRIPTION:
URL:https://heliopsis.be/event/start-dansjaar-2024-2025/
LOCATION:C.C Scharpoord
END:VEVENT
BEGIN:VEVENT
DTSTART;TZID=Europe/Brussels:20240212T080000
DTEND;TZID=Europe/Brussels:20240218T170000
DTSTAMP:20260423T002145
CREATED:20240201T095725Z
LAST-MODIFIED:20240201T095725Z
UID:2183-1707724800-1708275600@heliopsis.be
SUMMARY:Geen dansles
DESCRIPTION:
URL:https://heliopsis.be/event/geen-dansles/
END:VEVENT
BEGIN:VEVENT
DTSTART;VALUE=DATE:20240210
DTEND;VALUE=DATE:20240211
DTSTAMP:20260423T002145
CREATED:20240201T093930Z
LAST-MODIFIED:20240205T143642Z
UID:2175-1707523200-1707609599@heliopsis.be
SUMMARY:Heliopsis viert Carnaval
DESCRIPTION:Naar goede gewoonte mogen al onze kleine en grote dansers verkleed naar de les komen op zaterdag 10 februari. Prins en prinses carnaval verkiezen wij niet\, iedereen zal er geweldig uitzien! Confetti en dergelijke laat je beter thuis (indien je er toch meebrengt\, voorzie dan ook een stofzuiger en wat poetsmateriaal 😉 )
URL:https://heliopsis.be/event/carnaval/
END:VEVENT
BEGIN:VEVENT
DTSTART;VALUE=DATE:20240127
DTEND;VALUE=DATE:20240128
DTSTAMP:20260423T002145
CREATED:20240201T094343Z
LAST-MODIFIED:20240201T094343Z
UID:2181-1706313600-1706399999@heliopsis.be
SUMMARY:PJ Day
DESCRIPTION:Op zaterdag 27 januari mag iedereen in zijn pyjama/onesie naar de dansles komen! Bijhorende pantoffels en knuffel mogen ook 😉 \n 
URL:https://heliopsis.be/event/pj-day/
END:VEVENT
END:VCALENDAR