BEGIN:VCALENDAR
VERSION:2.0
PRODID:-//Dansgroep Heliopsis - ECPv6.15.15//NONSGML v1.0//EN
CALSCALE:GREGORIAN
METHOD:PUBLISH
X-WR-CALNAME:Dansgroep Heliopsis
X-ORIGINAL-URL:https://heliopsis.be
X-WR-CALDESC:Events voor Dansgroep Heliopsis
REFRESH-INTERVAL;VALUE=DURATION:PT1H
X-Robots-Tag:noindex
X-PUBLISHED-TTL:PT1H
BEGIN:VTIMEZONE
TZID:Europe/Brussels
BEGIN:DAYLIGHT
TZOFFSETFROM:+0100
TZOFFSETTO:+0200
TZNAME:CEST
DTSTART:20230326T010000
END:DAYLIGHT
BEGIN:STANDARD
TZOFFSETFROM:+0200
TZOFFSETTO:+0100
TZNAME:CET
DTSTART:20231029T010000
END:STANDARD
BEGIN:DAYLIGHT
TZOFFSETFROM:+0100
TZOFFSETTO:+0200
TZNAME:CEST
DTSTART:20240331T010000
END:DAYLIGHT
BEGIN:STANDARD
TZOFFSETFROM:+0200
TZOFFSETTO:+0100
TZNAME:CET
DTSTART:20241027T010000
END:STANDARD
BEGIN:DAYLIGHT
TZOFFSETFROM:+0100
TZOFFSETTO:+0200
TZNAME:CEST
DTSTART:20250330T010000
END:DAYLIGHT
BEGIN:STANDARD
TZOFFSETFROM:+0200
TZOFFSETTO:+0100
TZNAME:CET
DTSTART:20251026T010000
END:STANDARD
END:VTIMEZONE
BEGIN:VEVENT
DTSTART;TZID=Europe/Brussels:20241130T131500
DTEND;TZID=Europe/Brussels:20241130T140000
DTSTAMP:20260422T193118
CREATED:20241125T080021Z
LAST-MODIFIED:20241125T084619Z
UID:1160-1732972500-1732975200@heliopsis.be
SUMMARY:Sinterklaas komt op bezoek
DESCRIPTION:Sinterklaas komt bij ons langs om te kijken of alle dansertjes afgelopen jaar braaf zijn geweest. Hopelijk moet niemand mee in de zak!!\nDe Sint komt naar de balletzaal beneden om onze mini’s te bezoeken. Street Kids komt ook op bezoek.\nTuutjes en tekeningen mogen gerust meegegeven worden. Een muts zoals de pieten mag je gerust aandoen. \n 
URL:https://heliopsis.be/event/sinterklaas-op-bezoek/
LOCATION:C.C Scharpoord
END:VEVENT
END:VCALENDAR